BEGIN:VCALENDAR
VERSION:2.0
PRODID:-//Knihovna města Zubří - ECPv6.7.0//NONSGML v1.0//EN
CALSCALE:GREGORIAN
METHOD:PUBLISH
X-WR-CALNAME:Knihovna města Zubří
X-ORIGINAL-URL:https://knihovna.mesto-zubri.cz
X-WR-CALDESC:Events for Knihovna města Zubří
REFRESH-INTERVAL;VALUE=DURATION:PT1H
X-Robots-Tag:noindex
X-PUBLISHED-TTL:PT1H
BEGIN:VTIMEZONE
TZID:Europe/Paris
BEGIN:DAYLIGHT
TZOFFSETFROM:+0100
TZOFFSETTO:+0200
TZNAME:CEST
DTSTART:20230326T010000
END:DAYLIGHT
BEGIN:STANDARD
TZOFFSETFROM:+0200
TZOFFSETTO:+0100
TZNAME:CET
DTSTART:20231029T010000
END:STANDARD
END:VTIMEZONE
BEGIN:VEVENT
DTSTART;TZID=Europe/Paris:20230814T140000
DTEND;TZID=Europe/Paris:20230814T170000
DTSTAMP:20260425T182957
CREATED:20230809T120511Z
LAST-MODIFIED:20230809T120511Z
UID:924-1692021600-1692032400@knihovna.mesto-zubri.cz
SUMMARY:Křídokreslení
DESCRIPTION:V pondělí 14. 8. od 14:00 hod. se v centru na chodníku před knihovnou bude konat akce Křídokreslení. Akce je určena malým i velkým\, tedy všem\, co mají chuť se kreativně vyřádit křídami na chodnících okolo knihovny.
URL:https://knihovna.mesto-zubri.cz/event/kridokresleni/
LOCATION:Klidové centrum\, Hlavní 79\, Zubří\, Zlínský kraj\, 75654\, Czech Republic
ATTACH;FMTTYPE=image/jpeg:https://knihovna.mesto-zubri.cz/wp-content/uploads/2023/08/364148724_324383133272799_8741387665973244229_n.jpg
ORGANIZER;CN="Mgr. Veronika Jan%C5%AF":MAILTO:janu@mesto-zubri.cz
END:VEVENT
END:VCALENDAR