BEGIN:VCALENDAR
VERSION:2.0
PRODID:-//Knihovna města Zubří - ECPv6.7.0//NONSGML v1.0//EN
CALSCALE:GREGORIAN
METHOD:PUBLISH
X-ORIGINAL-URL:https://knihovna.mesto-zubri.cz
X-WR-CALDESC:Events for Knihovna města Zubří
REFRESH-INTERVAL;VALUE=DURATION:PT1H
X-Robots-Tag:noindex
X-PUBLISHED-TTL:PT1H
BEGIN:VTIMEZONE
TZID:Europe/Paris
BEGIN:DAYLIGHT
TZOFFSETFROM:+0100
TZOFFSETTO:+0200
TZNAME:CEST
DTSTART:20170326T010000
END:DAYLIGHT
BEGIN:STANDARD
TZOFFSETFROM:+0200
TZOFFSETTO:+0100
TZNAME:CET
DTSTART:20171029T010000
END:STANDARD
END:VTIMEZONE
BEGIN:VEVENT
DTSTART;TZID=Europe/Paris:20170215T150000
DTEND;TZID=Europe/Paris:20170215T180000
DTSTAMP:20260425T183120
CREATED:20170120T123358Z
LAST-MODIFIED:20170120T123433Z
UID:316-1487170800-1487181600@knihovna.mesto-zubri.cz
SUMMARY:Den her v knihovně
DESCRIPTION:Máte rádi deskové a společenské hry? Přijďte si do knihovny zahrát se svými kamarády nějakou super hru\, kterou půjčujeme běžně v knihovně i domů. Nebo dones nějakou\, kterou si nemáš s kým doma zahrát a nebo s ní chceš seznámit své kamarády. Na své si přijdou malí i velcí\, aneb jak se píše na některých hrách\, 3-99 let.
URL:https://knihovna.mesto-zubri.cz/event/den-her-v-knihovne/
LOCATION:Knihovna města Zubří\, Hlavní 79\, Zubří\, 75654\, Czech Republic
ATTACH;FMTTYPE=image/jpeg:https://knihovna.mesto-zubri.cz/wp-content/uploads/2016/03/12742415_552752204874404_3295252358403318221_n.jpg
END:VEVENT
END:VCALENDAR